BEGIN:VCALENDAR
VERSION:2.0
PRODID:-//81.201.148.31//NONSGML kigkonsult.se iCalcreator 2.41.92//
CALSCALE:GREGORIAN
METHOD:PUBLISH
UID:38306661-3365-4564-a361-663364386661
X-WR-CALNAME:KOKOS IMPORT Theatertermine
X-WR-CALDESC:
X-WR-TIMEZONE:Europe/Berlin
BEGIN:VEVENT
UID:38313830-3138-4131-b933-626239656631
DTSTAMP:20260423T130144Z
DESCRIPTION:
DTSTART:20260524T180000
DTEND:20260524T190000
SUMMARY:Gottesdienst
END:VEVENT
END:VCALENDAR
