BEGIN:VCALENDAR
VERSION:2.0
PRODID:-//81.201.148.31//NONSGML kigkonsult.se iCalcreator 2.41.92//
CALSCALE:GREGORIAN
METHOD:PUBLISH
UID:39336163-3830-4764-b634-613233333635
X-WR-CALNAME:KOKOS IMPORT Theatertermine
X-WR-CALDESC:
X-WR-TIMEZONE:Europe/Berlin
BEGIN:VEVENT
UID:33623963-3632-4339-b432-363831303039
DTSTAMP:20260423T093941Z
DESCRIPTION:
DTSTART:20260531T180000
DTEND:20260531T190000
SUMMARY:Gottesdienst
END:VEVENT
END:VCALENDAR
