BEGIN:VCALENDAR
VERSION:2.0
PRODID:-//81.201.148.31//NONSGML kigkonsult.se iCalcreator 2.41.92//
CALSCALE:GREGORIAN
METHOD:PUBLISH
UID:37306435-6363-4762-a134-663135383062
X-WR-CALNAME:KOKOS IMPORT Theatertermine
X-WR-CALDESC:
X-WR-TIMEZONE:Europe/Berlin
BEGIN:VEVENT
UID:33313662-6263-4032-b966-393934306332
DTSTAMP:20260423T181015Z
DESCRIPTION:
DTSTART:20260607T180000
DTEND:20260607T190000
SUMMARY:Gottesdienst
END:VEVENT
END:VCALENDAR
