BEGIN:VCALENDAR
VERSION:2.0
PRODID:-//81.201.148.31//NONSGML kigkonsult.se iCalcreator 2.41.92//
CALSCALE:GREGORIAN
METHOD:PUBLISH
UID:32653937-3966-4238-a130-623837633438
X-WR-CALNAME:KOKOS IMPORT Theatertermine
X-WR-CALDESC:
X-WR-TIMEZONE:Europe/Berlin
BEGIN:VEVENT
UID:63313766-6433-4637-b132-313939343034
DTSTAMP:20260423T093826Z
DESCRIPTION:
DTSTART:20260614T180000
DTEND:20260614T190000
SUMMARY:Gottesdienst
END:VEVENT
END:VCALENDAR
