BEGIN:VCALENDAR
VERSION:2.0
PRODID:-//81.201.148.31//NONSGML kigkonsult.se iCalcreator 2.41.92//
CALSCALE:GREGORIAN
METHOD:PUBLISH
UID:32393434-3934-4536-b835-343238383266
X-WR-CALNAME:KOKOS IMPORT Theatertermine
X-WR-CALDESC:
X-WR-TIMEZONE:Europe/Berlin
BEGIN:VEVENT
UID:37643632-6335-4635-a435-613130663161
DTSTAMP:20260423T093619Z
DESCRIPTION:
DTSTART:20260628T180000
DTEND:20260628T190000
SUMMARY:Gottesdienst
END:VEVENT
END:VCALENDAR
