BEGIN:VCALENDAR
VERSION:2.0
PRODID:-//81.201.148.31//NONSGML kigkonsult.se iCalcreator 2.41.92//
CALSCALE:GREGORIAN
METHOD:PUBLISH
UID:36303535-3631-4539-a362-643331396136
X-WR-CALNAME:KOKOS IMPORT Theatertermine
X-WR-CALDESC:
X-WR-TIMEZONE:Europe/Berlin
BEGIN:VEVENT
UID:34613230-6135-4237-a131-306564313834
DTSTAMP:20260423T093820Z
DESCRIPTION:
DTSTART:20260705T180000
DTEND:20260705T190000
SUMMARY:Gottesdienst
END:VEVENT
END:VCALENDAR
