BEGIN:VCALENDAR
VERSION:2.0
PRODID:-//81.201.148.31//NONSGML kigkonsult.se iCalcreator 2.41.92//
CALSCALE:GREGORIAN
METHOD:PUBLISH
UID:30666535-3664-4562-b638-353965616137
X-WR-CALNAME:KOKOS IMPORT Theatertermine
X-WR-CALDESC:
X-WR-TIMEZONE:Europe/Berlin
BEGIN:VEVENT
UID:34366566-6331-4135-a235-333937336337
DTSTAMP:20260421T132556Z
DESCRIPTION:
DTSTART:20260712T180000
DTEND:20260712T190000
SUMMARY:Gottesdienst
END:VEVENT
END:VCALENDAR
