BEGIN:VCALENDAR
VERSION:2.0
PRODID:-//81.201.148.31//NONSGML kigkonsult.se iCalcreator 2.41.92//
CALSCALE:GREGORIAN
METHOD:PUBLISH
UID:32316633-6136-4239-b832-336635393035
X-WR-CALNAME:KOKOS IMPORT Theatertermine
X-WR-CALDESC:
X-WR-TIMEZONE:Europe/Berlin
BEGIN:VEVENT
UID:34333237-3865-4138-b436-363062323064
DTSTAMP:20260423T093744Z
DESCRIPTION:
DTSTART:20260802T180000
DTEND:20260802T190000
SUMMARY:Gottesdienst
END:VEVENT
END:VCALENDAR
