BEGIN:VCALENDAR
VERSION:2.0
PRODID:-//81.201.148.31//NONSGML kigkonsult.se iCalcreator 2.41.92//
CALSCALE:GREGORIAN
METHOD:PUBLISH
UID:62663333-6233-4136-a562-356532353262
X-WR-CALNAME:KOKOS IMPORT Theatertermine
X-WR-CALDESC:
X-WR-TIMEZONE:Europe/Berlin
BEGIN:VEVENT
UID:35323836-3839-4433-a435-626363623834
DTSTAMP:20260423T094304Z
DESCRIPTION:
DTSTART:20260913T180000
DTEND:20260913T190000
SUMMARY:Gottesdienst
END:VEVENT
END:VCALENDAR
