BEGIN:VCALENDAR
VERSION:2.0
PRODID:-//81.201.148.31//NONSGML kigkonsult.se iCalcreator 2.41.92//
CALSCALE:GREGORIAN
METHOD:PUBLISH
UID:62623665-6162-4061-a637-376331393431
X-WR-CALNAME:KOKOS IMPORT Theatertermine
X-WR-CALDESC:
X-WR-TIMEZONE:Europe/Berlin
BEGIN:VEVENT
UID:30616233-3466-4562-a431-666463336539
DTSTAMP:20260421T073834Z
DESCRIPTION:
DTSTART:20260402T180000
DTEND:20260402T190000
SUMMARY:Gottesdienst
END:VEVENT
END:VCALENDAR
