BEGIN:VCALENDAR
VERSION:2.0
PRODID:-//81.201.148.31//NONSGML kigkonsult.se iCalcreator 2.41.92//
CALSCALE:GREGORIAN
METHOD:PUBLISH
UID:36373164-6631-4135-b334-623238323737
X-WR-CALNAME:KOKOS IMPORT Theatertermine
X-WR-CALDESC:
X-WR-TIMEZONE:Europe/Berlin
BEGIN:VEVENT
UID:64313964-3865-4165-b466-346538366265
DTSTAMP:20260421T055544Z
DESCRIPTION:
DTSTART:20260403T110000
DTEND:20260403T123000
SUMMARY:Gottesdienst
END:VEVENT
END:VCALENDAR
