BEGIN:VCALENDAR
VERSION:2.0
PRODID:-//81.201.148.31//NONSGML kigkonsult.se iCalcreator 2.41.92//
CALSCALE:GREGORIAN
METHOD:PUBLISH
UID:33383664-6564-4338-b533-663665393664
X-WR-CALNAME:KOKOS IMPORT Theatertermine
X-WR-CALDESC:
X-WR-TIMEZONE:Europe/Berlin
BEGIN:VEVENT
UID:33373939-3362-4561-a266-653533326366
DTSTAMP:20260421T073500Z
DESCRIPTION:
DTSTART:20260403T150000
DTEND:20260403T160000
SUMMARY:Gottesdienst
END:VEVENT
END:VCALENDAR
