BEGIN:VCALENDAR
VERSION:2.0
PRODID:-//81.201.148.31//NONSGML kigkonsult.se iCalcreator 2.41.92//
CALSCALE:GREGORIAN
METHOD:PUBLISH
UID:31373066-3437-4435-a138-316639613062
X-WR-CALNAME:KOKOS IMPORT Theatertermine
X-WR-CALDESC:
X-WR-TIMEZONE:Europe/Berlin
BEGIN:VEVENT
UID:31626364-3065-4164-b561-366162303762
DTSTAMP:20260423T104927Z
DESCRIPTION:
DTSTART:20260525T110000
DTEND:20260525T123000
SUMMARY:Gottesdienst
END:VEVENT
END:VCALENDAR
