BEGIN:VCALENDAR
VERSION:2.0
PRODID:-//81.201.148.31//NONSGML kigkonsult.se iCalcreator 2.41.92//
CALSCALE:GREGORIAN
METHOD:PUBLISH
UID:37666634-3431-4234-b632-653565623362
X-WR-CALNAME:KOKOS IMPORT Theatertermine
X-WR-CALDESC:
X-WR-TIMEZONE:Europe/Berlin
BEGIN:VEVENT
UID:33356335-6664-4263-b563-643666646536
DTSTAMP:20260423T094352Z
DESCRIPTION:
DTSTART:20260626T160000
DTEND:20260626T173000
SUMMARY:Gottesdienst
END:VEVENT
END:VCALENDAR
