BEGIN:VCALENDAR
VERSION:2.0
PRODID:-//81.201.148.31//NONSGML kigkonsult.se iCalcreator 2.41.92//
CALSCALE:GREGORIAN
METHOD:PUBLISH
UID:37313663-3064-4063-b037-343932383832
X-WR-CALNAME:KOKOS IMPORT Theatertermine
X-WR-CALDESC:
X-WR-TIMEZONE:Europe/Berlin
BEGIN:VEVENT
UID:35633863-6364-4266-b036-343433333831
DTSTAMP:20260421T060240Z
DESCRIPTION:
DTSTART:20260524T160000
DTEND:20260524T170000
SUMMARY:HÄNDEL – Dettinger Te Deum
END:VEVENT
END:VCALENDAR
