BEGIN:VCALENDAR
VERSION:2.0
PRODID:-//81.201.148.31//NONSGML kigkonsult.se iCalcreator 2.41.92//
CALSCALE:GREGORIAN
METHOD:PUBLISH
UID:62396333-6339-4463-a434-626236346666
X-WR-CALNAME:KOKOS IMPORT Theatertermine
X-WR-CALDESC:
X-WR-TIMEZONE:Europe/Berlin
BEGIN:VEVENT
UID:64323730-3237-4165-b066-326463303462
DTSTAMP:20260422T023540Z
DESCRIPTION:
DTSTART:20261118T200000
DTEND:20261118T213000
SUMMARY:Hell und Dunkel
END:VEVENT
END:VCALENDAR
