BEGIN:VCALENDAR
VERSION:2.0
PRODID:-//81.201.148.31//NONSGML kigkonsult.se iCalcreator 2.41.92//
CALSCALE:GREGORIAN
METHOD:PUBLISH
UID:38383061-6663-4539-a239-303265616133
X-WR-CALNAME:KOKOS IMPORT Theatertermine
X-WR-CALDESC:
X-WR-TIMEZONE:Europe/Berlin
BEGIN:VEVENT
UID:39386531-3061-4938-b038-336133613261
DTSTAMP:20260421T055227Z
DESCRIPTION:
DTSTART:20260122T193000
DTEND:20260122T213000
SUMMARY:I SHALL NOT HATE
END:VEVENT
END:VCALENDAR
