BEGIN:VCALENDAR
VERSION:2.0
PRODID:-//81.201.148.31//NONSGML kigkonsult.se iCalcreator 2.41.92//
CALSCALE:GREGORIAN
METHOD:PUBLISH
UID:35616633-3236-4836-b464-373334623361
X-WR-CALNAME:KOKOS IMPORT Theatertermine
X-WR-CALDESC:
X-WR-TIMEZONE:Europe/Berlin
BEGIN:VEVENT
UID:37383439-3939-4663-b863-363930393833
DTSTAMP:20260421T073305Z
DESCRIPTION:
DTSTART:20260123T193000
DTEND:20260123T213000
SUMMARY:I SHALL NOT HATE
END:VEVENT
END:VCALENDAR
