BEGIN:VCALENDAR
VERSION:2.0
PRODID:-//81.201.148.31//NONSGML kigkonsult.se iCalcreator 2.41.92//
CALSCALE:GREGORIAN
METHOD:PUBLISH
UID:38373034-3139-4162-b531-663339303161
X-WR-CALNAME:KOKOS IMPORT Theatertermine
X-WR-CALDESC:
X-WR-TIMEZONE:Europe/Berlin
BEGIN:VEVENT
UID:32363161-3362-4965-b230-343163356463
DTSTAMP:20260421T095231Z
DESCRIPTION:
DTSTART:20251208T193000
DTEND:20251208T213000
SUMMARY:Italienische Weihnacht
END:VEVENT
END:VCALENDAR
