BEGIN:VCALENDAR
VERSION:2.0
PRODID:-//81.201.148.31//NONSGML kigkonsult.se iCalcreator 2.41.92//
CALSCALE:GREGORIAN
METHOD:PUBLISH
UID:38346562-6462-4165-b933-616366373332
X-WR-CALNAME:KOKOS IMPORT Theatertermine
X-WR-CALDESC:
X-WR-TIMEZONE:Europe/Berlin
BEGIN:VEVENT
UID:32663964-3332-4138-a663-366637643330
DTSTAMP:20260421T110126Z
DESCRIPTION:
DTSTART:20261218T193000
DTEND:20261218T213000
SUMMARY:Italienische Weihnacht
END:VEVENT
END:VCALENDAR
