BEGIN:VCALENDAR
VERSION:2.0
PRODID:-//81.201.148.31//NONSGML kigkonsult.se iCalcreator 2.41.92//
CALSCALE:GREGORIAN
METHOD:PUBLISH
UID:39613966-6238-4663-b066-353633333938
X-WR-CALNAME:KOKOS IMPORT Theatertermine
X-WR-CALDESC:
X-WR-TIMEZONE:Europe/Berlin
BEGIN:VEVENT
UID:37386638-3666-4461-b136-383365653736
DTSTAMP:20260421T210943Z
DESCRIPTION:
DTSTART:20261010T190000
DTEND:20261010T210000
SUMMARY:Jan Vogler | Christian Schmitt
END:VEVENT
END:VCALENDAR
