BEGIN:VCALENDAR
VERSION:2.0
PRODID:-//81.201.148.31//NONSGML kigkonsult.se iCalcreator 2.41.92//
CALSCALE:GREGORIAN
METHOD:PUBLISH
UID:35383265-3230-4164-a165-646231383635
X-WR-CALNAME:KOKOS IMPORT Theatertermine
X-WR-CALDESC:
X-WR-TIMEZONE:Europe/Berlin
BEGIN:VEVENT
UID:62653235-3334-4232-b731-343833616266
DTSTAMP:20260421T104533Z
DESCRIPTION:
DTSTART:20261204T193000
DTEND:20261204T223000
SUMMARY:Jauchzet\, frohlocket!
END:VEVENT
END:VCALENDAR
