BEGIN:VCALENDAR
VERSION:2.0
PRODID:-//81.201.148.31//NONSGML kigkonsult.se iCalcreator 2.41.92//
CALSCALE:GREGORIAN
METHOD:PUBLISH
UID:38343334-3339-4663-a562-646334313131
X-WR-CALNAME:KOKOS IMPORT Theatertermine
X-WR-CALDESC:
X-WR-TIMEZONE:Europe/Berlin
BEGIN:VEVENT
UID:36306436-3332-4631-a561-653133383864
DTSTAMP:20260421T120027Z
DESCRIPTION:
DTSTART:20261205T193000
DTEND:20261205T223000
SUMMARY:Jauchzet\, frohlocket!
END:VEVENT
END:VCALENDAR
