BEGIN:VCALENDAR
VERSION:2.0
PRODID:-//81.201.148.31//NONSGML kigkonsult.se iCalcreator 2.41.92//
CALSCALE:GREGORIAN
METHOD:PUBLISH
UID:65656630-6561-4634-b036-386237343961
X-WR-CALNAME:KOKOS IMPORT Theatertermine
X-WR-CALDESC:
X-WR-TIMEZONE:Europe/Berlin
BEGIN:VEVENT
UID:30393038-6166-4632-b161-376339333334
DTSTAMP:20260421T134053Z
DESCRIPTION:
DTSTART:20261207T193000
DTEND:20261207T213000
SUMMARY:Jauchzet\, frohlocket!
END:VEVENT
END:VCALENDAR
