BEGIN:VCALENDAR
VERSION:2.0
PRODID:-//81.201.148.31//NONSGML kigkonsult.se iCalcreator 2.41.92//
CALSCALE:GREGORIAN
METHOD:PUBLISH
UID:35323164-3637-4232-a230-356261336434
X-WR-CALNAME:KOKOS IMPORT Theatertermine
X-WR-CALDESC:
X-WR-TIMEZONE:Europe/Berlin
BEGIN:VEVENT
UID:64653931-6364-4232-b665-373734336132
DTSTAMP:20260421T134411Z
DESCRIPTION:
DTSTART:20261208T193000
DTEND:20261208T213000
SUMMARY:Jauchzet\, frohlocket!
END:VEVENT
END:VCALENDAR
