BEGIN:VCALENDAR
VERSION:2.0
PRODID:-//81.201.148.31//NONSGML kigkonsult.se iCalcreator 2.41.92//
CALSCALE:GREGORIAN
METHOD:PUBLISH
UID:31656138-3832-4665-b832-353230376434
X-WR-CALNAME:KOKOS IMPORT Theatertermine
X-WR-CALDESC:
X-WR-TIMEZONE:Europe/Berlin
BEGIN:VEVENT
UID:33363536-6435-4064-a431-613534326465
DTSTAMP:20260421T104913Z
DESCRIPTION:
DTSTART:20261215T193000
DTEND:20261215T213000
SUMMARY:Jauchzet\, frohlocket!
END:VEVENT
END:VCALENDAR
