BEGIN:VCALENDAR
VERSION:2.0
PRODID:-//81.201.148.31//NONSGML kigkonsult.se iCalcreator 2.41.92//
CALSCALE:GREGORIAN
METHOD:PUBLISH
UID:37636562-3138-4133-b563-663834643761
X-WR-CALNAME:KOKOS IMPORT Theatertermine
X-WR-CALDESC:
X-WR-TIMEZONE:Europe/Berlin
BEGIN:VEVENT
UID:33643431-3637-4037-a433-326564663435
DTSTAMP:20260421T174838Z
DESCRIPTION:
DTSTART:20260904T193000
DTEND:20260904T213000
SUMMARY:Julia Lezhneva | Kammerorchester Basel
END:VEVENT
END:VCALENDAR
