BEGIN:VCALENDAR
VERSION:2.0
PRODID:-//81.201.148.31//NONSGML kigkonsult.se iCalcreator 2.41.92//
CALSCALE:GREGORIAN
METHOD:PUBLISH
UID:30366163-3363-4534-a137-393363353163
X-WR-CALNAME:KOKOS IMPORT Theatertermine
X-WR-CALDESC:
X-WR-TIMEZONE:Europe/Berlin
BEGIN:VEVENT
UID:62653366-6138-4535-b937-333637356533
DTSTAMP:20260421T222938Z
DESCRIPTION:
DTSTART:20261024T190000
DTEND:20261024T203000
SUMMARY:Konzert zum Kirchweihfest
END:VEVENT
END:VCALENDAR
