BEGIN:VCALENDAR
VERSION:2.0
PRODID:-//81.201.148.31//NONSGML kigkonsult.se iCalcreator 2.41.92//
CALSCALE:GREGORIAN
METHOD:PUBLISH
UID:64656331-6334-4464-b637-346131663535
X-WR-CALNAME:KOKOS IMPORT Theatertermine
X-WR-CALDESC:
X-WR-TIMEZONE:Europe/Berlin
BEGIN:VEVENT
UID:32316534-6634-4938-b038-356334363065
DTSTAMP:20260421T192902Z
DESCRIPTION:
DTSTART:20260930T200000
DTEND:20260930T213000
SUMMARY:Leuchttürme der Orgelmusik
END:VEVENT
END:VCALENDAR
