BEGIN:VCALENDAR
VERSION:2.0
PRODID:-//81.201.148.31//NONSGML kigkonsult.se iCalcreator 2.41.92//
CALSCALE:GREGORIAN
METHOD:PUBLISH
UID:63616539-6238-4636-a365-393762313633
X-WR-CALNAME:KOKOS IMPORT Theatertermine
X-WR-CALDESC:
X-WR-TIMEZONE:Europe/Berlin
BEGIN:VEVENT
UID:34666534-3361-4166-a563-313038343361
DTSTAMP:20260421T060145Z
DESCRIPTION:
DTSTART:20260415T193000
DTEND:20260415T213000
SUMMARY:LEVICKIS – THE KNIGHTS – JACOBSEN
END:VEVENT
END:VCALENDAR
