BEGIN:VCALENDAR
VERSION:2.0
PRODID:-//81.201.148.31//NONSGML kigkonsult.se iCalcreator 2.41.92//
CALSCALE:GREGORIAN
METHOD:PUBLISH
UID:36346338-3930-4030-a262-333832666438
X-WR-CALNAME:KOKOS IMPORT Theatertermine
X-WR-CALDESC:
X-WR-TIMEZONE:Europe/Berlin
BEGIN:VEVENT
UID:33643530-3761-4539-b566-646234633935
DTSTAMP:20260421T073223Z
DESCRIPTION:
DTSTART:20260722T200000
DTEND:20260722T213000
SUMMARY:Lyrische Farben
END:VEVENT
END:VCALENDAR
