BEGIN:VCALENDAR
VERSION:2.0
PRODID:-//81.201.148.31//NONSGML kigkonsult.se iCalcreator 2.41.92//
CALSCALE:GREGORIAN
METHOD:PUBLISH
UID:35383630-6235-4165-b137-633138656338
X-WR-CALNAME:KOKOS IMPORT Theatertermine
X-WR-CALDESC:
X-WR-TIMEZONE:Europe/Berlin
BEGIN:VEVENT
UID:63633135-3062-4464-b462-633264303962
DTSTAMP:20260421T060318Z
DESCRIPTION:
DTSTART:20260523T193000
DTEND:20260523T213000
SUMMARY:Mit Pauken und Trompeten
END:VEVENT
END:VCALENDAR
