BEGIN:VCALENDAR
VERSION:2.0
PRODID:-//81.201.148.31//NONSGML kigkonsult.se iCalcreator 2.41.92//
CALSCALE:GREGORIAN
METHOD:PUBLISH
UID:34623736-6331-4966-b539-613862616333
X-WR-CALNAME:KOKOS IMPORT Theatertermine
X-WR-CALDESC:
X-WR-TIMEZONE:Europe/Berlin
BEGIN:VEVENT
UID:61326232-3163-4261-b831-373739663637
DTSTAMP:20260422T015541Z
DESCRIPTION:
DTSTART:20261114T190000
DTEND:20261114T210000
SUMMARY:MOZART  – Requiem
END:VEVENT
END:VCALENDAR
