BEGIN:VCALENDAR
VERSION:2.0
PRODID:-//81.201.148.31//NONSGML kigkonsult.se iCalcreator 2.41.92//
CALSCALE:GREGORIAN
METHOD:PUBLISH
UID:66653831-6633-4564-a264-303839626563
X-WR-CALNAME:KOKOS IMPORT Theatertermine
X-WR-CALDESC:
X-WR-TIMEZONE:Europe/Berlin
BEGIN:VEVENT
UID:65626634-6436-4131-a164-353737313631
DTSTAMP:20260421T163541Z
DESCRIPTION:
DTSTART:20260909T200000
DTEND:20260909T210000
SUMMARY:Nach der Finsternis das Licht
END:VEVENT
END:VCALENDAR
