BEGIN:VCALENDAR
VERSION:2.0
PRODID:-//81.201.148.31//NONSGML kigkonsult.se iCalcreator 2.41.92//
CALSCALE:GREGORIAN
METHOD:PUBLISH
UID:32633635-3733-4233-b932-346365333365
X-WR-CALNAME:KOKOS IMPORT Theatertermine
X-WR-CALDESC:
X-WR-TIMEZONE:Europe/Berlin
BEGIN:VEVENT
UID:33383435-6566-4365-b561-346639626238
DTSTAMP:20260419T161815Z
DESCRIPTION:
DTSTART:20260308T150000
DTEND:20260308T160000
SUMMARY:Neues Leben berührt
END:VEVENT
END:VCALENDAR
