BEGIN:VCALENDAR
VERSION:2.0
PRODID:-//81.201.148.31//NONSGML kigkonsult.se iCalcreator 2.41.92//
CALSCALE:GREGORIAN
METHOD:PUBLISH
UID:31353766-3438-4761-b130-363463356563
X-WR-CALNAME:KOKOS IMPORT Theatertermine
X-WR-CALDESC:
X-WR-TIMEZONE:Europe/Berlin
BEGIN:VEVENT
UID:66666230-3034-4137-a633-306564663234
DTSTAMP:20260421T151450Z
DESCRIPTION:
DTSTART:20260101T193000
DTEND:20260101T210000
SUMMARY:NEUJAHRSKONZERT
END:VEVENT
END:VCALENDAR
