BEGIN:VCALENDAR
VERSION:2.0
PRODID:-//81.201.148.31//NONSGML kigkonsult.se iCalcreator 2.41.92//
CALSCALE:GREGORIAN
METHOD:PUBLISH
UID:37356238-6463-4262-b764-633139326465
X-WR-CALNAME:KOKOS IMPORT Theatertermine
X-WR-CALDESC:
X-WR-TIMEZONE:Europe/Berlin
BEGIN:VEVENT
UID:39373164-3330-4561-a462-376164616562
DTSTAMP:20260421T060517Z
DESCRIPTION:
DTSTART:20251210T160000
DTEND:20251210T171500
SUMMARY:Nils Landgren – Christmas With My Friends 2025
END:VEVENT
END:VCALENDAR
