BEGIN:VCALENDAR
VERSION:2.0
PRODID:-//81.201.148.31//NONSGML kigkonsult.se iCalcreator 2.41.92//
CALSCALE:GREGORIAN
METHOD:PUBLISH
UID:65616136-6166-4534-a534-646437383362
X-WR-CALNAME:KOKOS IMPORT Theatertermine
X-WR-CALDESC:
X-WR-TIMEZONE:Europe/Berlin
BEGIN:VEVENT
UID:38633131-3036-4236-b832-323136366635
DTSTAMP:20260421T060517Z
DESCRIPTION:
DTSTART:20251210T200000
DTEND:20251210T213000
SUMMARY:Nils Landgren – Christmas With My Friends 2025
END:VEVENT
END:VCALENDAR
