BEGIN:VCALENDAR
VERSION:2.0
PRODID:-//81.201.148.31//NONSGML kigkonsult.se iCalcreator 2.41.92//
CALSCALE:GREGORIAN
METHOD:PUBLISH
UID:32336166-3363-4236-b535-623332336231
X-WR-CALNAME:KOKOS IMPORT Theatertermine
X-WR-CALDESC:
X-WR-TIMEZONE:Europe/Berlin
BEGIN:VEVENT
UID:36356530-3762-4430-b035-623033366166
DTSTAMP:20260421T060000Z
DESCRIPTION:
DTSTART:20260518T193000
DTEND:20260518T213000
SUMMARY:NURIA RIAL & LES CORNETS NOIRS
END:VEVENT
END:VCALENDAR
