BEGIN:VCALENDAR
VERSION:2.0
PRODID:-//81.201.148.31//NONSGML kigkonsult.se iCalcreator 2.41.92//
CALSCALE:GREGORIAN
METHOD:PUBLISH
UID:64376633-3262-4764-b130-626264316565
X-WR-CALNAME:KOKOS IMPORT Theatertermine
X-WR-CALDESC:
X-WR-TIMEZONE:Europe/Berlin
BEGIN:VEVENT
UID:64346136-3563-4437-b137-613562386132
DTSTAMP:20260423T132906Z
DESCRIPTION:
DTSTART:20260226T180000
DTEND:20260226T190000
SUMMARY:Ökumenisches Abendgebet
END:VEVENT
END:VCALENDAR
