BEGIN:VCALENDAR
VERSION:2.0
PRODID:-//81.201.148.31//NONSGML kigkonsult.se iCalcreator 2.41.92//
CALSCALE:GREGORIAN
METHOD:PUBLISH
UID:38316235-6430-4630-b666-626364346530
X-WR-CALNAME:KOKOS IMPORT Theatertermine
X-WR-CALDESC:
X-WR-TIMEZONE:Europe/Berlin
BEGIN:VEVENT
UID:34653239-3662-4161-b163-333561303663
DTSTAMP:20260420T095454Z
DESCRIPTION:
DTSTART:20260319T180000
DTEND:20260319T190000
SUMMARY:Ökumenisches Abendgebet
END:VEVENT
END:VCALENDAR
