BEGIN:VCALENDAR
VERSION:2.0
PRODID:-//81.201.148.31//NONSGML kigkonsult.se iCalcreator 2.41.92//
CALSCALE:GREGORIAN
METHOD:PUBLISH
UID:34333261-6139-4233-b433-363537656538
X-WR-CALNAME:KOKOS IMPORT Theatertermine
X-WR-CALDESC:
X-WR-TIMEZONE:Europe/Berlin
BEGIN:VEVENT
UID:38633637-3764-4330-b739-336431333666
DTSTAMP:20260421T175738Z
DESCRIPTION:
DTSTART:20260416T180000
DTEND:20260416T190000
SUMMARY:Ökumenisches Abendgebet
END:VEVENT
END:VCALENDAR
