BEGIN:VCALENDAR
VERSION:2.0
PRODID:-//81.201.148.31//NONSGML kigkonsult.se iCalcreator 2.41.92//
CALSCALE:GREGORIAN
METHOD:PUBLISH
UID:32643962-3834-4262-a463-633535613662
X-WR-CALNAME:KOKOS IMPORT Theatertermine
X-WR-CALDESC:
X-WR-TIMEZONE:Europe/Berlin
BEGIN:VEVENT
UID:30323565-3034-4833-b738-306133333234
DTSTAMP:20260420T043925Z
DESCRIPTION:
DTSTART:20260430T180000
DTEND:20260430T190000
SUMMARY:Ökumenisches Abendgebet
END:VEVENT
END:VCALENDAR
