BEGIN:VCALENDAR
VERSION:2.0
PRODID:-//81.201.148.31//NONSGML kigkonsult.se iCalcreator 2.41.92//
CALSCALE:GREGORIAN
METHOD:PUBLISH
UID:36633663-3363-4036-b464-323464636435
X-WR-CALNAME:KOKOS IMPORT Theatertermine
X-WR-CALDESC:
X-WR-TIMEZONE:Europe/Berlin
BEGIN:VEVENT
UID:62343637-6266-4639-b437-343430326638
DTSTAMP:20260421T000700Z
DESCRIPTION:
DTSTART:20260514T180000
DTEND:20260514T190000
SUMMARY:Ökumenisches Abendgebet
END:VEVENT
END:VCALENDAR
