BEGIN:VCALENDAR
VERSION:2.0
PRODID:-//81.201.148.31//NONSGML kigkonsult.se iCalcreator 2.41.92//
CALSCALE:GREGORIAN
METHOD:PUBLISH
UID:35633863-3735-4535-b562-653330363634
X-WR-CALNAME:KOKOS IMPORT Theatertermine
X-WR-CALDESC:
X-WR-TIMEZONE:Europe/Berlin
BEGIN:VEVENT
UID:30613837-3237-4462-b331-393137396235
DTSTAMP:20260423T095617Z
DESCRIPTION:
DTSTART:20260521T180000
DTEND:20260521T190000
SUMMARY:Ökumenisches Abendgebet
END:VEVENT
END:VCALENDAR
