BEGIN:VCALENDAR
VERSION:2.0
PRODID:-//81.201.148.31//NONSGML kigkonsult.se iCalcreator 2.41.92//
CALSCALE:GREGORIAN
METHOD:PUBLISH
UID:30363733-3364-4464-b733-353261663539
X-WR-CALNAME:KOKOS IMPORT Theatertermine
X-WR-CALDESC:
X-WR-TIMEZONE:Europe/Berlin
BEGIN:VEVENT
UID:36633733-3238-4264-b737-333231646161
DTSTAMP:20260423T095525Z
DESCRIPTION:
DTSTART:20260528T180000
DTEND:20260528T190000
SUMMARY:Ökumenisches Abendgebet
END:VEVENT
END:VCALENDAR
