BEGIN:VCALENDAR
VERSION:2.0
PRODID:-//81.201.148.31//NONSGML kigkonsult.se iCalcreator 2.41.92//
CALSCALE:GREGORIAN
METHOD:PUBLISH
UID:64316339-6433-4233-a666-346561623932
X-WR-CALNAME:KOKOS IMPORT Theatertermine
X-WR-CALDESC:
X-WR-TIMEZONE:Europe/Berlin
BEGIN:VEVENT
UID:66363536-6632-4264-a330-656565636263
DTSTAMP:20260423T095618Z
DESCRIPTION:
DTSTART:20260611T180000
DTEND:20260611T190000
SUMMARY:Ökumenisches Abendgebet
END:VEVENT
END:VCALENDAR
