BEGIN:VCALENDAR
VERSION:2.0
PRODID:-//81.201.148.31//NONSGML kigkonsult.se iCalcreator 2.41.92//
CALSCALE:GREGORIAN
METHOD:PUBLISH
UID:63636237-6566-4263-a535-626665653562
X-WR-CALNAME:KOKOS IMPORT Theatertermine
X-WR-CALDESC:
X-WR-TIMEZONE:Europe/Berlin
BEGIN:VEVENT
UID:33316164-6132-4438-b130-623166396164
DTSTAMP:20260423T105813Z
DESCRIPTION:
DTSTART:20260618T180000
DTEND:20260618T190000
SUMMARY:Ökumenisches Abendgebet
END:VEVENT
END:VCALENDAR
