BEGIN:VCALENDAR
VERSION:2.0
PRODID:-//81.201.148.31//NONSGML kigkonsult.se iCalcreator 2.41.92//
CALSCALE:GREGORIAN
METHOD:PUBLISH
UID:65656439-6530-4236-a331-326336343531
X-WR-CALNAME:KOKOS IMPORT Theatertermine
X-WR-CALDESC:
X-WR-TIMEZONE:Europe/Berlin
BEGIN:VEVENT
UID:34356237-6163-4432-b361-343361393761
DTSTAMP:20260423T094338Z
DESCRIPTION:
DTSTART:20260625T180000
DTEND:20260625T190000
SUMMARY:Ökumenisches Abendgebet
END:VEVENT
END:VCALENDAR
