BEGIN:VCALENDAR
VERSION:2.0
PRODID:-//81.201.148.31//NONSGML kigkonsult.se iCalcreator 2.41.92//
CALSCALE:GREGORIAN
METHOD:PUBLISH
UID:61383062-6166-4339-b130-643431376132
X-WR-CALNAME:KOKOS IMPORT Theatertermine
X-WR-CALDESC:
X-WR-TIMEZONE:Europe/Berlin
BEGIN:VEVENT
UID:62323431-3236-4862-b266-623336353738
DTSTAMP:20260421T091444Z
DESCRIPTION:
DTSTART:20260709T180000
DTEND:20260709T190000
SUMMARY:Ökumenisches Abendgebet
END:VEVENT
END:VCALENDAR
